BEGIN:VCALENDAR
VERSION:2.0
PRODID:-//TRUENO - ECPv6.15.20//NONSGML v1.0//EN
CALSCALE:GREGORIAN
METHOD:PUBLISH
X-WR-CALNAME:TRUENO
X-ORIGINAL-URL:https://16.bienaldeartesmediales.cl
X-WR-CALDESC:Eventos para TRUENO
REFRESH-INTERVAL;VALUE=DURATION:PT1H
X-Robots-Tag:noindex
X-PUBLISHED-TTL:PT1H
BEGIN:VTIMEZONE
TZID:America/Sao_Paulo
BEGIN:STANDARD
TZOFFSETFROM:-0300
TZOFFSETTO:-0300
TZNAME:-03
DTSTART:20220101T000000
END:STANDARD
END:VTIMEZONE
BEGIN:VEVENT
DTSTART;TZID=America/Sao_Paulo:20231010T200000
DTEND;TZID=America/Sao_Paulo:20231021T210000
DTSTAMP:20260421T083111
CREATED:20230930T153739Z
LAST-MODIFIED:20231115T202430Z
UID:612-1696968000-1697922000@16.bienaldeartesmediales.cl
SUMMARY:Vaciar el molde sobre la tierra
DESCRIPTION:Curatoría de Mariairis Flores y Seba Calfuqueo.\n\n\n\nPara esta propuesta Espacio218 se salió de su centro y convocó a espacios de otras regiones a proponer artistas que trabajen el video y que piensen la ecología desde sus múltiples capas. Fundación para las artes y humanidades\, Judas Galería\, Casa Varas y Galería Barrios Bajos fueron los invitados que nos permitieron construir una propuesta. Esto dio como resultado una selección diversa que visibiliza distintas estrategias y territorios\, pero que tiene puntos comunes como una perspectiva crítica.
URL:https://16.bienaldeartesmediales.cl/actividad/vaciar-el-molde-sobre-la-tierra/
LOCATION:Espacio 218\, Portal Fernández Concha\, Plaza de Armas s/n\, departamento 218\, 8320179\, Chile
CATEGORIES:Actividades,Microcuratorías / Lugares
ATTACH;FMTTYPE=image/png:https://16.bienaldeartesmediales.cl/wp-content/uploads/sites/27/2023/10/Captura-de-Pantalla-2023-10-20-a-las-12.11.37.png
END:VEVENT
END:VCALENDAR