BEGIN:VCALENDAR
VERSION:2.0
PRODID:-//TRUENO - ECPv6.15.20//NONSGML v1.0//EN
CALSCALE:GREGORIAN
METHOD:PUBLISH
X-WR-CALNAME:TRUENO
X-ORIGINAL-URL:https://16.bienaldeartesmediales.cl
X-WR-CALDESC:Eventos para TRUENO
REFRESH-INTERVAL;VALUE=DURATION:PT1H
X-Robots-Tag:noindex
X-PUBLISHED-TTL:PT1H
BEGIN:VTIMEZONE
TZID:America/Sao_Paulo
BEGIN:STANDARD
TZOFFSETFROM:-0300
TZOFFSETTO:-0300
TZNAME:-03
DTSTART:20220101T000000
END:STANDARD
END:VTIMEZONE
BEGIN:VEVENT
DTSTART;TZID=America/Sao_Paulo:20231101T000000
DTEND;TZID=America/Sao_Paulo:20231231T235959
DTSTAMP:20260421T133947
CREATED:20231102T205401Z
LAST-MODIFIED:20231106T182320Z
UID:1573-1698796800-1704067199@16.bienaldeartesmediales.cl
SUMMARY:Radio Bosque
DESCRIPTION:Radio Bosque es una plataforma de experimentación sonora creada durante 2022 por los artistas mediales Manuel Orellana y Mauricio Román\, en colaboración con el área de comunidades y aprendizajes de la Corporación Chilena de Video y Artes Electrónicas.  \n\n\n\nEsta plataforma invita a participar a diferentes personas en encuentros que propicien la creación y los aprendizajes libres. En dichos encuentros se desarrollan\, integran y difunden las piezas sonoras creadas en comunidad. \n\n\n\nACERCA DE LOS TALLERES\n\n\n\nHasta el momento\, se han llevado a cabo dos talleres de creación de contenidos. En el primero\, de convocatoria general\, participaron: Isabel Tapia y Pablo Verdugo\, Sebastián Q y Sebastián M (Deambulantes ss)\, Arturo Ces y Katherine Canales\, Fedor Cambiazo y Roberto Urbina\, Josefina Camus y Primavera Lohaus\, Tomás y Gianluca. En el segundo\, de convocatoria específica\, participó el Colectivo de Adultos Mayores de la comuna de Quilicura\, constituido por María Isabel Aranda\, Derlinda Araya\, Sonia Bascur\, Rosa de las mercedes Espinoza\, Luis Guajardo\, Alicia Gúmera\, Oliver Leonard\, Celia Muñoz\, Rith Nieto\, Ninoska Perdomo\, María Inés Reyes\, María Teresa Silva\, Esmeralda Zambrano\, Paloma Luz Echeverría\, Juan Osorio\, Rigoberto Osorio\, Luisa Lara\, Luisa Riveros\, Inés Sepúlveda\, Teresa de Jesús Henriquez\, Miguel Soto\, Jacqueline Briones\, María Soledad Díaz\, Rosa Machuca\, Alejandro Schedel. \n\n\n\nEstos  creadores han generado procesos artísticos mancomunados\, en que cada participante suma desde sus talentos para construir comunidad. Autora de la foto: Isabel Tapia. \n\n\n\n\nescucha aquí
URL:https://16.bienaldeartesmediales.cl/actividad/radio-bosque/
CATEGORIES:Escuela de la Intuición
ATTACH;FMTTYPE=image/jpeg:https://16.bienaldeartesmediales.cl/wp-content/uploads/sites/27/2023/11/radio-bosque.jpg
END:VEVENT
END:VCALENDAR