BEGIN:VCALENDAR
VERSION:2.0
PRODID:-//TRUENO - ECPv6.15.20//NONSGML v1.0//EN
CALSCALE:GREGORIAN
METHOD:PUBLISH
X-WR-CALNAME:TRUENO
X-ORIGINAL-URL:https://16.bienaldeartesmediales.cl
X-WR-CALDESC:Eventos para TRUENO
REFRESH-INTERVAL;VALUE=DURATION:PT1H
X-Robots-Tag:noindex
X-PUBLISHED-TTL:PT1H
BEGIN:VTIMEZONE
TZID:America/Sao_Paulo
BEGIN:STANDARD
TZOFFSETFROM:-0300
TZOFFSETTO:-0300
TZNAME:-03
DTSTART:20220101T000000
END:STANDARD
END:VTIMEZONE
BEGIN:VEVENT
DTSTART;TZID=America/Sao_Paulo:20231010T160000
DTEND;TZID=America/Sao_Paulo:20231013T190000
DTSTAMP:20260421T064009
CREATED:20231001T150014Z
LAST-MODIFIED:20231213T233320Z
UID:651-1696953600-1697223600@16.bienaldeartesmediales.cl
SUMMARY:PetroPorn / CuPorn / LiPorn
DESCRIPTION:La trilogía “Diarios Salvajes de porno y extracción” opera como una serie de apuntes poéticos y heréticos mixtos\, de afectos encontrados en el cruce de un territorio y su representación\, descartando la historicidad oficial a través de narrativas que hacen hincapié en las succiones y perforaciones incansables e insensibles del relato pornográfico de la extracción neoliberal\, en este caso del el cobre\, el petróleo y el litio.
URL:https://16.bienaldeartesmediales.cl/actividad/petroporn-cuporn-liporn/
LOCATION:Espacio 218\, Portal Fernández Concha\, Plaza de Armas s/n\, departamento 218\, 8320179\, Chile
CATEGORIES:Espacios Satélites,Obras
ATTACH;FMTTYPE=image/jpeg:https://16.bienaldeartesmediales.cl/wp-content/uploads/sites/27/2023/10/Petro-porno-Cenex.jpeg
END:VEVENT
END:VCALENDAR