BEGIN:VCALENDAR
VERSION:2.0
PRODID:-//TRUENO - ECPv6.15.20//NONSGML v1.0//EN
CALSCALE:GREGORIAN
METHOD:PUBLISH
X-WR-CALNAME:TRUENO
X-ORIGINAL-URL:https://16.bienaldeartesmediales.cl
X-WR-CALDESC:Eventos para TRUENO
REFRESH-INTERVAL;VALUE=DURATION:PT1H
X-Robots-Tag:noindex
X-PUBLISHED-TTL:PT1H
BEGIN:VTIMEZONE
TZID:America/Sao_Paulo
BEGIN:STANDARD
TZOFFSETFROM:-0300
TZOFFSETTO:-0300
TZNAME:-03
DTSTART:20220101T000000
END:STANDARD
END:VTIMEZONE
BEGIN:VEVENT
DTSTART;TZID=America/Sao_Paulo:20231111T100000
DTEND;TZID=America/Sao_Paulo:20231111T100000
DTSTAMP:20260420T142826
CREATED:20231106T133044Z
LAST-MODIFIED:20231106T140720Z
UID:1747-1699696800-1699696800@16.bienaldeartesmediales.cl
SUMMARY:Encuentro de Creación Juventudes e Infancias
DESCRIPTION:Diferentes colectivos de niñas\, niños y jóvenes mostrarán sus trabajos y nos contarán de su proceso de creación\, además tendremos la oportunidad de ver una breve selección de cortos animados para disfrutar. Incluye obras de Lotte Reiniger\, Gabriel Gabriel Garble\, Wang&Söderström\, Jules Guerín\, Alain Biet\, Sean Buckelew\, Koji Yamamura\, Haomin Peng y Olga Roger.Este encuentro está dedicado a juventudes e infancias y explora la creación audiovisual desde prácticas experimentales\, relevando la cultura de infancias a través de conversatorios\, visionados y encuentros. Esta actividad es parte del programa de la ESCUELA DE LA INTUICIÓN\, el cuál está dedicado a condensar la experiencia de los públicos en la Bienal a través de espacios editoriales\, talleres y laboratorios.
URL:https://16.bienaldeartesmediales.cl/actividad/encuentro-de-creacion/
LOCATION:Cineteca Nacional\, Centro Cultural La Moneda.\, Plaza de la ciudadania 26\, Santiago\, Chile
CATEGORIES:Actividades,Escuela de la Intuición
END:VEVENT
END:VCALENDAR