BEGIN:VCALENDAR
VERSION:2.0
PRODID:-//TRUENO - ECPv6.15.20//NONSGML v1.0//EN
CALSCALE:GREGORIAN
METHOD:PUBLISH
X-WR-CALNAME:TRUENO
X-ORIGINAL-URL:https://16.bienaldeartesmediales.cl
X-WR-CALDESC:Eventos para TRUENO
REFRESH-INTERVAL;VALUE=DURATION:PT1H
X-Robots-Tag:noindex
X-PUBLISHED-TTL:PT1H
BEGIN:VTIMEZONE
TZID:America/Sao_Paulo
BEGIN:STANDARD
TZOFFSETFROM:-0300
TZOFFSETTO:-0300
TZNAME:-03
DTSTART:20220101T000000
END:STANDARD
END:VTIMEZONE
BEGIN:VEVENT
DTSTART;TZID=America/Sao_Paulo:20231103T080000
DTEND;TZID=America/Sao_Paulo:20231103T170000
DTSTAMP:20260420T124140
CREATED:20231103T132748Z
LAST-MODIFIED:20231106T153053Z
UID:1603-1698998400-1699030800@16.bienaldeartesmediales.cl
SUMMARY:En el taller de Agustín
DESCRIPTION:Instalación de la artista Andrea Goic en una casa taller de la calle Juan Vicuña. El taller funciona como Unidad deTratamiento Intensivo de máquinas impresoras moribundas dondeAgustín y su socio Bernardo las resucitan para revenderlas. Es unhomenaje a 17 tipógrafos rescatados del Diccionario biográficoobrero de Chile de Osvaldo López del año 1912\, quienes organizadosen estructuras mancomunales y sociedades de socorro mutuo\,dieron origen a los movimientos sociales en Chile. De igual manera\,la obra es también es un homenaje al mundo de la imprentamecánica\, hoy\, ensombrecido por lo digital.
URL:https://16.bienaldeartesmediales.cl/actividad/en-el-taller-de-agustin/
LOCATION:Casa Taller calle Juan Vicuña\, Juan Vicuña\, Santiago\, Chile
CATEGORIES:Actividades,Irrupciones en el espacio
ATTACH;FMTTYPE=image/jpeg:https://16.bienaldeartesmediales.cl/wp-content/uploads/sites/27/2023/11/02-GOIC-ficha-2-scaled.jpeg
END:VEVENT
END:VCALENDAR